BEGIN:VCALENDAR
VERSION:2.0
PRODID:-//Contemplative Outreach of St. Louis - ECPv6.15.11//NONSGML v1.0//EN
CALSCALE:GREGORIAN
METHOD:PUBLISH
X-WR-CALNAME:Contemplative Outreach of St. Louis
X-ORIGINAL-URL:https://centeringprayerstl.org
X-WR-CALDESC:Events for Contemplative Outreach of St. Louis
REFRESH-INTERVAL;VALUE=DURATION:PT1H
X-Robots-Tag:noindex
X-PUBLISHED-TTL:PT1H
BEGIN:VTIMEZONE
TZID:UTC
BEGIN:STANDARD
TZOFFSETFROM:+0000
TZOFFSETTO:+0000
TZNAME:UTC
DTSTART:20250101T000000
END:STANDARD
END:VTIMEZONE
BEGIN:VTIMEZONE
TZID:America/Chicago
BEGIN:DAYLIGHT
TZOFFSETFROM:-0600
TZOFFSETTO:-0500
TZNAME:CDT
DTSTART:20250309T080000
END:DAYLIGHT
BEGIN:STANDARD
TZOFFSETFROM:-0500
TZOFFSETTO:-0600
TZNAME:CST
DTSTART:20251102T070000
END:STANDARD
BEGIN:DAYLIGHT
TZOFFSETFROM:-0600
TZOFFSETTO:-0500
TZNAME:CDT
DTSTART:20260308T080000
END:DAYLIGHT
BEGIN:STANDARD
TZOFFSETFROM:-0500
TZOFFSETTO:-0600
TZNAME:CST
DTSTART:20261101T070000
END:STANDARD
BEGIN:DAYLIGHT
TZOFFSETFROM:-0600
TZOFFSETTO:-0500
TZNAME:CDT
DTSTART:20270314T080000
END:DAYLIGHT
BEGIN:STANDARD
TZOFFSETFROM:-0500
TZOFFSETTO:-0600
TZNAME:CST
DTSTART:20271107T070000
END:STANDARD
END:VTIMEZONE
BEGIN:VEVENT
DTSTART;TZID=UTC:20260527T171500
DTEND;TZID=UTC:20260527T203000
DTSTAMP:20260421T183357
CREATED:20260408T181448Z
LAST-MODIFIED:20260415T180828Z
UID:77356-1779902100-1779913800@centeringprayerstl.org
SUMMARY:Gratefulness! The Prayers of David
DESCRIPTION:The EnLIGHTenment Series \n\n\n\nGratefulness! The Prayers of David Steindl-Rast\n\n\n\nAwake to the Gift: The Transforming Power of Gratitude\n\n\n\nPresented by Jim McElroy\n\n\n\n\n\n\n\n\n\n\n\n\n\nDrawing on the teachings of Thomas Keating and Brother David Steindl-Rast\, this presentation will explore how the practice of Centering Prayer and an attitude of gratitude opens us to a life of joyful awareness.Through silence and consent to God’s presence and action within\, we begin to notice the gift of each moment more fully. Brother David Steindl-Rast’s simple rhythm—Stop\, Look\, Go—offers a practical way of living this awareness in daily life.Together\, we will reflect on how contemplative prayer and gratitude are deeply connected: \n\n\n\n\nHow silence awakens us to the present moment\n\n\n\nHow consent deepens trust in God’s unfolding presence\n\n\n\nHow gratefulness becomes a response to the life already given\n\n\n\n\nParticipants will be invited into both quiet reflection and simple practices that can be carried into everyday life. \n\n\n\n\n\n“Today I want to pay attention to all the superfluous things that are important to me\, and my joy will praise you. Praise is pure abundance and at the same time the ultimate meaning of our lives.” DSR \n\n\n\n\n\nEvent Topic:Gratitude and a life of happiness is the Fruit of Centering Prayer. \n\n\n\n\n\nAbout the Presenter\n\n\n\nJim McElroy\n\n\n\n\n\n\n\n\n\n\n\n\n\nJim McElroy has been practicing Centering Prayer since 1996 and has been a commissioned presenter since 2002. Jim has been on the leadership team of 12-Step Outreach since its formation in 2005 and is especially interested in teaching contemplative practices to the recovery community. He currently serves on the Trustee Team for Contemplative Outreach\, Ltd and is on the Welcoming Prayer Faculty. He is a former coordinator of Contemplative Outreach of St. Louis. \n\n\n\n\n\n\n\n\n\n\n\n\n\n \n\n\n\n\n\n\nFlow of the Evening: Wednesday\, May 27\n\n\n\nSchedule5:15 PM – Gathering & Light meal6:00 PM – Welcome6:10 PM – Centering Prayer6:35 PM – PresentationFollowed by time for questions8:30 PM – Close \n\n\n\n🥪 Early Gathering & Light MealJoin us 40 minutes before the meeting for a simple meal.You’re welcome to bring something to share\, but it’s not necessary.We hope this evening offers space for stillness and insight.Feel free to bring a friend. \n\n\n\n\n\n\n\n\n\n\n\n\n\n\nLocation\n\n\n\n\n\nCommunity of Christ Church\n\n\n\nAddress 830 N Kirkwood RdSt. Louis\, MO 63122 \n\n\n\n\n			\n				\n			\n			\n\n\n\n\n\n\n\n\n\nIn-Person & Online Participation (Zoom)This event will be held in person and also offered on Zoom. \n\n\n\nRegistrants will receive the link prior to the event.For those joining online\, donations of any amount are gratefully received.A recording of the session will be shared with registrants after it has been edited. \n\n\n\n\nIn Person: A suggested donation of $25 is appreciated. If you are able\, your support helps sustain our programs\, scholarships\, and ongoing expenses.This is a suggestion only and not a barrier to attendance. All are welcome. \n\n\n\n\n\n\n\n\n For any questions please email: enlightenment@centeringprayerstl.com  \n\n\n\n\nNext Enlightenment Series is August 26th with Father Matthew Flatley\n\n\n\n\nComing Soon\n\n\n\n\n\n\n\n\n\nRegistration\n\n\n\n\n                \n\n                        LinkedInThis field is for validation purposes and should be left unchanged.Name(Required)\n                            \n                            \n                                                    First\n                                                    \n                                                \n                            \n                            \n                                                            Last\n                                                            \n                                                        \n                            \n                        Email(Required)\n                            \n                        Phone(Required)Address    \n                    \n                         \n                                        Street Address\n                                        \n                                   \n                                    City\n                                    \n                                 \n                                        State / Province / Region\n                                        \n                                      \n                                    ZIP / Postal Code\n                                    \n                                \n                    \n                This field is hidden when viewing the formAttendance TypeI will attend the sessions (pick one please)\n			\n					\n					In-person\n			\n			\n					\n					Zoom\n			Background(Required)Please briefly share your contemplative prayer backgroundGuestsIf you are bringing guests\, please list their names below. Thank youConnectionHow did you hear about this event?VolunteerVolunteers help make events like this possible\, and we deeply appreciate any support to help lighten the load! Your presence is more than enough\, but if you’d like to help\, please arrive 30 minutes early for welcoming or setup\, and/or stay 30 minutes after for cleanup.\n								\n								Welcoming\n							\n								\n								Set Up\n							\n								\n								Bring a Light Dish\n							\n								\n								Clean Up\n							Donation(Required)There is a suggested donation of $25\, which helps cover meals\, our space\, tech support\, website\, scholarships\, and other expenses. If you are able\, your support is greatly appreciated.\nThis is a suggestion only and not a barrier to attendance. All are welcome.\n\n			\n					\n					No donation at this time.\n			\n			\n					\n					Yes\, I would like to donate via credit card.\n			\n			\n					\n					Yes\, I would like to donate via mailed check.\n			\n			\n					\n					I will donate at the event.\n			Mailing List(Required)Do you want to be added to our mailing list?\n			\n					\n					Yes\n			\n			\n					\n					No\n			\n			\n					\n					I already receive your informative posts.\n			Donation for ES Gratefulness 5/27/26\n					\n				Donation Total\n							\n						Credit CardCard Details\n					Cardholder Name\n					\n				\n			Make it payable to COSTL and mail it to:  COSTL c/o Susie Brent \n489 Staines Court \nSt. Louis\, MO 63141IMPORTANT:  All information provided with your gift is strictly confidential and will never be exchanged with another organization or sold to anyone for other use. You may rest assured that we value your support and would not put you or your identity in jeopardy.\n                 \n            \n            \n            \n            \n            \n            \n            \n            \n            \n            \n            \n            \n        \n                        Δ \n                        \n\n\n\n\nHaving trouble registering or did not receive a confirmation email?  Reach out to susiebrentcostl@gmail.com.
URL:https://centeringprayerstl.org/event/gratefulness-the-prayers-of-david-steindl-rast/
CATEGORIES:EnLIGHTenment Series
ATTACH;FMTTYPE=image/jpeg:https://centeringprayerstl.org/wp-content/uploads/2026/03/diego-ph-tIL1v1jSoaY-unsplash-scaled-3.jpg
END:VEVENT
BEGIN:VEVENT
DTSTART;TZID=America/Chicago:20260706T150000
DTEND;TZID=America/Chicago:20260713T123000
DTSTAMP:20260421T183357
CREATED:20250805T194551Z
LAST-MODIFIED:20260302T221259Z
UID:76455-1783350000-1783945800@centeringprayerstl.org
SUMMARY:Intensive and Post Intensive Centering Prayer 8 Day Retreat
DESCRIPTION:8 Day Silent Intensive & Post Intensive Retreat\n\n\n\n\n\nat Mercy Conference and Retreat Center – St. Louis\, MO \n\n\n\n\n\n\n\n\nRegistration Now Open\n\n\n\n\n\n\n\nJuly 6th – 13th\, 2026\n\n\n\nSponsored by Contemplative Outreach St. Louis \n\n\n\nCome rest in silence with other contemplative companions\, away from the busyness of daily life\, and allow the mind\, body\, and spirit to surrender to God’s presence and action within. \n\n\n\nThis 8 day retreat offers a more in-depth experience of silent prayer for those who already have an established practice of Centering Prayer of 6 months or more. It is an opportunity for deeper union with God through a communal sharing of silence and stillness. For those making their first weeklong silent retreat\, the Intensive\, we will be using the video series by Thomas Keating\, The Spiritual Journey. The simultaneous Post Intensive track includes additional time in silent prayer instead of video presentations for those who have previously made an Eight Day Intensive Retreat. \n\n\n\nThis retreat offers a double track simultaneously: Intensive I and Post Intensive. If this is your first Centering Prayer retreat of this length the Spiritual Journey Videos are  shown in  Intensive I.  They lay a necessary foundation for the practice for life and especially intensive retreats. \n\n\n\nIntensive I: There will be 3 sets of two 30-minute periods of Centering Prayer daily and 2 sessions of watching video talks from Fr. Thomas Keating’s Spiritual Journey series with optional discussion. \n\n\n\nPost-Intensive: There will be 3 sets of two 30-minute periods plus two additional 30-minute periods of Centering Prayer daily. \n\n\n\nLectio Divina and a optional contemplative Eucharist will be offered daily for everyone\, as well as optional soul-friending with staff. \n\n\n\nThe retreat will be facilitated by Contemplative Outreach staff: Father Bill Sheehan\, OMI\, Marty Badgett\, Mary Beth Rhiner\, Jim McElroy\, Kristina Frank and Susie Brent. \n\n\n\nTo Support Your Retreat Experience: A daily practice of Centering Prayer for 6 months or longer is recommended.\n\n\n\n\n\nSchedule:\n\n\n\n\nArrival: Monday\, July 6th\, 3:00pm\n\n\n\nCentering Prayer Sit (Optional) at 5:00pm\n\n\n\nDinner at 5:30 pm\n\n\n\nRetreat ends: Monday\, July 13th after lunch at 12:30pm\n\n\n\n\nFor more information:retreats@centeringprayerstl.com \n\n\n\nTraveling to Mercy Conference and Retreat Center (St. Louis\, MO):\n\n\n\nAirport transportation may be available from St. Louis Airport for participants arriving on Monday\, July 6 between 11:00 AM and 2:00 PM\, and departing on the final day between 1:00 PM and 3:00 PM.Travel outside these timeframes can be arranged via Uber or other ride services.On-site registration begins at 3:00 PM. \n\n\n\nRetreat Price:See retreat prices and room types below. \n\n\n\nIn the spirit of shared generosity\, limited scholarship funds are available to assist those who would otherwise be unable to attend. These funds are made possible by Contemplative Outreach Ltd.\, COSTL\, and generous donors. \n\n\n\n\n\n\n\n\n\n\nJoin this silent retreat to deepen your understanding and practice of Centering Prayer\, reconnecting with the Divine Mystery at the heart of all religious experiences. \n\n\n\n\n\nRetreat Details – Monday\, July 6th – Monday\, July 13th\n\n\n\n\nArrival:  3:00 pm on Monday\, July 6th\n\n\n\nCentering Prayer Sit (Optional) at 5:00pm\n\n\n\nConversation and  buffet dinner at  5:30-6:30pm \n\n\n\nOptional Lectio Divina and contemplative Eucharist daily\n\n\n\nDeparture: after lunch at 12:30 pm\, Monday\, July 13th\n\n\n\n\nRetreat Location\n\n\n\n\n\nMercy Conference and Retreat Center\n\n\n\nAddress 2039 North Geyer Rd.St. Louis\, MO 63131 \n\n\n\nWebsite: mercycenterstl.org\n\n\n\n\n			\n				\n			\n			\n\n\n\n\n\n\nRetreat Director\n\n\n\n\n\n\n\n\n\n\noblate Father Bill SheehanFr Bill Sheehan\, OMI\, has served in numerous leadership roles in his Oblate community. He was an integral voice in the earliest days of the centering prayer movement and the eventual founding of Contemplative Outreach by Fr. Thomas Keating\, OSCO. For over four decades he has continually offered his gifts of wisdom and presence to the Centering Prayer community\, directing retreats throughout the US. We joyfully welcome him back to Missouri to lead us as we pray together in the spacious natural beauty of Mercy Conference Retreat Center.“The ideal disposition for the divine encounter is the gathering together of one’s whole being in silent and alert attentiveness.”Fr. Thomas Keating \n\n\n\n\n\n\nAll inclusive Retreat Pricing\n\n\n\nThis is an overnight\, residential retreat experience.  \n\n\n\nAll accommodation prices below include:\n\n\n\n\nOptional Lectio Divina\, contemplative Eucharist daily\, Centering Prayer Sessions and soul friending session\n\n\n\nAccess to yoga sessions \n\n\n\n7 nights stay at this welcoming retreat center in the chosen room* See link below\n\n\n\n7 days of buffet meals (breakfast\, lunch and dinner)\n\n\n\nAccess to the natural beauty of 72 acres around Mercy Conference and Retreat Center\, including the Labyrinth\, a half mile Cosmic Walk with booklet\, Stations of the Cross\, an exercise room\, multiple lounges\, dining room and a chapel.\n\n\n\n\n\n\n\nRetreat Accommodation Options & Fees \n\n\n\n\n\nRegistration closes on June 22nd\, 2026* *(MCRC may allow retreatants after this date email retreats@centeringprayerstl.com ) \n\n\n\n\n\n\nThere is a $150 Non Refundable Deposit with registrations. \n\n\n\n\n\nDouble Occupancy per person and  Private Bath$1\,090.00\n\n\n\nSingle Room and Shared Bath (Jack and Jill Style bath)$1\,175.00\n\n\n\nTwin Single and Private Bath$1\,275.00\n\n\n\nQueen Single and Private Bath$1\,275.00\n\n\n\n\n\n\nWaitlist available when retreat fills up. Space is limited.  \n\n\n\n\n\nRefund Policy \n\n\n\n\n\n\n\nTo View Pictures of Rooms\, Click Here\n\n\n\n\n\nFor more information please email retreats@centeringprayerstl.com      Partial scholarships are available inquiries at the same link.   retreats@centeringprayerstl.com   Thank you! \nNOTE: If you are interested in adding one or two extra self directed days after our retreat\, please contact Kristin at Mercy  kgoldkamp@mercycenterstl.org\n\n\n\n\n\nRegistration Form\n\n\n\nPlease list dietary concerns or assistance needed on the registration form below.  \n\n\n\n\n  Loading…
URL:https://centeringprayerstl.org/event/intensive-and-post-intensive-centering-prayer-8-day-retreat/
CATEGORIES:Retreat
ATTACH;FMTTYPE=image/jpeg:https://centeringprayerstl.org/wp-content/uploads/2025/09/labriynth-level.jpg
END:VEVENT
END:VCALENDAR